BEGIN:VCALENDAR
VERSION:2.0
PRODID:-//eventon.com NONSGML v1.0//EN
CALSCALE:GREGORIAN
METHOD:PUBLISH
BEGIN:VEVENT
UID:69ec344c2c98e
DTSTAMP:20260425T032604Z
DTSTART:20160318
DTEND:20160319
LOCATION:
SUMMARY:Turnberry Isle Miami
DESCRIPTION:Turnberry Isle Miami\nhttps://golfaficionadomag.com/events/turn
 berry-isle-miami/
URL:https://golfaficionadomag.com/events/turnberry-isle-miami/
END:VEVENT
END:VCALENDAR